BEGIN:VCALENDAR
VERSION:2.0
PRODID:-//Third Hill Brewing Co. - ECPv6.15.20//NONSGML v1.0//EN
CALSCALE:GREGORIAN
METHOD:PUBLISH
X-WR-CALNAME:Third Hill Brewing Co.
X-ORIGINAL-URL:https://www.thirdhillbrewing.com
X-WR-CALDESC:Events for Third Hill Brewing Co.
REFRESH-INTERVAL;VALUE=DURATION:PT1H
X-Robots-Tag:noindex
X-PUBLISHED-TTL:PT1H
BEGIN:VTIMEZONE
TZID:America/New_York
BEGIN:DAYLIGHT
TZOFFSETFROM:-0500
TZOFFSETTO:-0400
TZNAME:EDT
DTSTART:20220313T070000
END:DAYLIGHT
BEGIN:STANDARD
TZOFFSETFROM:-0400
TZOFFSETTO:-0500
TZNAME:EST
DTSTART:20221106T060000
END:STANDARD
BEGIN:DAYLIGHT
TZOFFSETFROM:-0500
TZOFFSETTO:-0400
TZNAME:EDT
DTSTART:20230312T070000
END:DAYLIGHT
BEGIN:STANDARD
TZOFFSETFROM:-0400
TZOFFSETTO:-0500
TZNAME:EST
DTSTART:20231105T060000
END:STANDARD
BEGIN:DAYLIGHT
TZOFFSETFROM:-0500
TZOFFSETTO:-0400
TZNAME:EDT
DTSTART:20240310T070000
END:DAYLIGHT
BEGIN:STANDARD
TZOFFSETFROM:-0400
TZOFFSETTO:-0500
TZNAME:EST
DTSTART:20241103T060000
END:STANDARD
BEGIN:DAYLIGHT
TZOFFSETFROM:-0500
TZOFFSETTO:-0400
TZNAME:EDT
DTSTART:20250309T070000
END:DAYLIGHT
BEGIN:STANDARD
TZOFFSETFROM:-0400
TZOFFSETTO:-0500
TZNAME:EST
DTSTART:20251102T060000
END:STANDARD
END:VTIMEZONE
BEGIN:VEVENT
DTSTART;TZID=America/New_York:20240224T193000
DTEND;TZID=America/New_York:20240224T213000
DTSTAMP:20260423T015139
CREATED:20240209T194427Z
LAST-MODIFIED:20240220T200141Z
UID:926-1708803000-1708810200@www.thirdhillbrewing.com
SUMMARY:Live from the Brewhouse: Comedy
DESCRIPTION:Grab a beer and take a seat to enjoy the comedic stylings of some of the top comics performing now in the DMV. We will laugh together and enjoy the tasty beer and snacks in Downtown Silver Spring. Located steps away from DC and the Metro (red line) this is an event you don’t want to miss! \nClick here for tickets
URL:https://www.thirdhillbrewing.com/event/live-from-the-brewhouse-comedy/
END:VEVENT
BEGIN:VEVENT
DTSTART;TZID=America/New_York:20240224T160000
DTEND;TZID=America/New_York:20240224T190000
DTSTAMP:20260423T015139
CREATED:20240209T193156Z
LAST-MODIFIED:20240220T175527Z
UID:922-1708790400-1708801200@www.thirdhillbrewing.com
SUMMARY:Homebrew Competition - Awards Celebration
DESCRIPTION:Come raise a glass to the winners and celebrate with them.   Happy Hour Pricing for everyone!
URL:https://www.thirdhillbrewing.com/event/homebrew-competition-submission-deadline-2/
END:VEVENT
BEGIN:VEVENT
DTSTART;TZID=America/New_York:20240217T130000
DTEND;TZID=America/New_York:20240217T220000
DTSTAMP:20260423T015139
CREATED:20240209T192754Z
LAST-MODIFIED:20240209T192754Z
UID:918-1708174800-1708207200@www.thirdhillbrewing.com
SUMMARY:Homebrew Competition - Submission Deadline
DESCRIPTION:All homebrew competition submissions are due by close of business.  Don’t miss your chance\, it’s not too late to enter!
URL:https://www.thirdhillbrewing.com/event/homebrew-competition-submission-deadline/
END:VEVENT
BEGIN:VEVENT
DTSTART;TZID=America/New_York:20240210T140000
DTEND;TZID=America/New_York:20240210T200000
DTSTAMP:20260423T015139
CREATED:20240207T010729Z
LAST-MODIFIED:20240207T010747Z
UID:906-1707573600-1707595200@www.thirdhillbrewing.com
SUMMARY:Popup Market
DESCRIPTION:Shop from 10 amazing local artisans set up throughout the taproom and brewhouse.  Find that unique\, last minute Valentine gift.
URL:https://www.thirdhillbrewing.com/event/popup-market/
END:VEVENT
BEGIN:VEVENT
DTSTART;TZID=America/New_York:20240204T190000
DTEND;TZID=America/New_York:20240204T220000
DTSTAMP:20260423T015139
CREATED:20240130T214056Z
LAST-MODIFIED:20240131T235646Z
UID:901-1707073200-1707084000@www.thirdhillbrewing.com
SUMMARY:Live from the Brewhouse: Jon Watkins & Friends
DESCRIPTION:Join us for live music with covers that you know and love.  Come ready to dance\, enjoy great beer and have a great night.
URL:https://www.thirdhillbrewing.com/event/live-from-the-brewhouse-jon-watkins-friends/
END:VEVENT
BEGIN:VEVENT
DTSTART;TZID=America/New_York:20231216T193000
DTEND;TZID=America/New_York:20231216T220000
DTSTAMP:20260423T015139
CREATED:20231211T154816Z
LAST-MODIFIED:20231211T163359Z
UID:816-1702755000-1702764000@www.thirdhillbrewing.com
SUMMARY:Live from The Brewhouse: a Night of Comedy presented by Stacey Axler
DESCRIPTION:Join us for the last live comedy night of 2023 at Third Hill Brewing. This show will feature some wonderful local comics and some special guests. \nGet your tickets here and come laugh with us! All tickets include one (1) drink from the bar.
URL:https://www.thirdhillbrewing.com/event/live-from-the-brewhouse-a-night-of-comedy-presented-by-stacey-axler/
LOCATION:Third Hill Brewing Co.\, 8216 Georgia Ave.\, Silver Spring\, MD\, 20910\, United States
END:VEVENT
BEGIN:VEVENT
DTSTART;TZID=America/New_York:20230916T130000
DTEND;TZID=America/New_York:20230916T220000
DTSTAMP:20260423T015139
CREATED:20230912T192919Z
LAST-MODIFIED:20230912T192919Z
UID:619-1694869200-1694901600@www.thirdhillbrewing.com
SUMMARY:Oktoberfest
DESCRIPTION:Join us for our first annual Oktoberfest celebration.  Live music. Delicious food.  A special Oktoberfest beer release and get your THBC Oktoberfest 2023 stein. \nThe party kicks off at 1:00pm. \nThe stein is the gift that keeps on giving- purchase your THBC Oktoberfest 2023 stein before we run out and receive .5L pours of our German inspired beers for the cost of a pint\, through Oct. 3 (while supplies last).
URL:https://www.thirdhillbrewing.com/event/oktoberfest/
LOCATION:Third Hill Brewing Co.\, 8216 Georgia Ave.\, Silver Spring\, MD\, 20910\, United States
END:VEVENT
END:VCALENDAR